BEGIN:VCALENDAR
VERSION:2.0
PRODID:-//Combat Veterans Motorcycle Association® MA Chapter 2-1 - ECPv6.15.20//NONSGML v1.0//EN
CALSCALE:GREGORIAN
METHOD:PUBLISH
X-WR-CALNAME:Combat Veterans Motorcycle Association® MA Chapter 2-1
X-ORIGINAL-URL:https://cvma2-1.org
X-WR-CALDESC:Events for Combat Veterans Motorcycle Association® MA Chapter 2-1
REFRESH-INTERVAL;VALUE=DURATION:PT1H
X-Robots-Tag:noindex
X-PUBLISHED-TTL:PT1H
BEGIN:VTIMEZONE
TZID:America/New_York
BEGIN:DAYLIGHT
TZOFFSETFROM:-0500
TZOFFSETTO:-0400
TZNAME:EDT
DTSTART:20250309T070000
END:DAYLIGHT
BEGIN:STANDARD
TZOFFSETFROM:-0400
TZOFFSETTO:-0500
TZNAME:EST
DTSTART:20251102T060000
END:STANDARD
BEGIN:DAYLIGHT
TZOFFSETFROM:-0500
TZOFFSETTO:-0400
TZNAME:EDT
DTSTART:20260308T070000
END:DAYLIGHT
BEGIN:STANDARD
TZOFFSETFROM:-0400
TZOFFSETTO:-0500
TZNAME:EST
DTSTART:20261101T060000
END:STANDARD
BEGIN:DAYLIGHT
TZOFFSETFROM:-0500
TZOFFSETTO:-0400
TZNAME:EDT
DTSTART:20270314T070000
END:DAYLIGHT
BEGIN:STANDARD
TZOFFSETFROM:-0400
TZOFFSETTO:-0500
TZNAME:EST
DTSTART:20271107T060000
END:STANDARD
END:VTIMEZONE
BEGIN:VEVENT
DTSTART;TZID=America/New_York:20260321T090000
DTEND;TZID=America/New_York:20260321T170000
DTSTAMP:20260423T134448
CREATED:20260203T181943Z
LAST-MODIFIED:20260203T181943Z
UID:3108-1774083600-1774112400@cvma2-1.org
SUMMARY:CVMA NH State Meeting
DESCRIPTION:
URL:https://cvma2-1.org/event/cvma-nh-state-meeting/
LOCATION:Rollinsford American Legion\, 551 Foundry St\, Rollinsford\, New Hampshire\, 03869\, United States
CATEGORIES:*Sanctioned Event,Other Event
END:VEVENT
END:VCALENDAR