BEGIN:VCALENDAR
VERSION:2.0
PRODID:-//Combat Veterans Motorcycle Association® MA Chapter 2-1 - ECPv6.15.20//NONSGML v1.0//EN
CALSCALE:GREGORIAN
METHOD:PUBLISH
X-WR-CALNAME:Combat Veterans Motorcycle Association® MA Chapter 2-1
X-ORIGINAL-URL:https://cvma2-1.org
X-WR-CALDESC:Events for Combat Veterans Motorcycle Association® MA Chapter 2-1
REFRESH-INTERVAL;VALUE=DURATION:PT1H
X-Robots-Tag:noindex
X-PUBLISHED-TTL:PT1H
BEGIN:VTIMEZONE
TZID:America/New_York
BEGIN:DAYLIGHT
TZOFFSETFROM:-0500
TZOFFSETTO:-0400
TZNAME:EDT
DTSTART:20230312T070000
END:DAYLIGHT
BEGIN:STANDARD
TZOFFSETFROM:-0400
TZOFFSETTO:-0500
TZNAME:EST
DTSTART:20231105T060000
END:STANDARD
BEGIN:DAYLIGHT
TZOFFSETFROM:-0500
TZOFFSETTO:-0400
TZNAME:EDT
DTSTART:20240310T070000
END:DAYLIGHT
BEGIN:STANDARD
TZOFFSETFROM:-0400
TZOFFSETTO:-0500
TZNAME:EST
DTSTART:20241103T060000
END:STANDARD
BEGIN:DAYLIGHT
TZOFFSETFROM:-0500
TZOFFSETTO:-0400
TZNAME:EDT
DTSTART:20250309T070000
END:DAYLIGHT
BEGIN:STANDARD
TZOFFSETFROM:-0400
TZOFFSETTO:-0500
TZNAME:EST
DTSTART:20251102T060000
END:STANDARD
BEGIN:DAYLIGHT
TZOFFSETFROM:-0500
TZOFFSETTO:-0400
TZNAME:EDT
DTSTART:20260308T070000
END:DAYLIGHT
BEGIN:STANDARD
TZOFFSETFROM:-0400
TZOFFSETTO:-0500
TZNAME:EST
DTSTART:20261101T060000
END:STANDARD
BEGIN:DAYLIGHT
TZOFFSETFROM:-0500
TZOFFSETTO:-0400
TZNAME:EDT
DTSTART:20270314T070000
END:DAYLIGHT
BEGIN:STANDARD
TZOFFSETFROM:-0400
TZOFFSETTO:-0500
TZNAME:EST
DTSTART:20271107T060000
END:STANDARD
END:VTIMEZONE
BEGIN:VEVENT
DTSTART;TZID=America/New_York:20260604T090000
DTEND;TZID=America/New_York:20260607T170000
DTSTAMP:20260423T190754
CREATED:20260203T182205Z
LAST-MODIFIED:20260203T182205Z
UID:3114-1780563600-1780851600@cvma2-1.org
SUMMARY:CVMA National Meeting
DESCRIPTION:
URL:https://cvma2-1.org/event/cvma-national-meeting/
LOCATION:Syracuse\, NY
CATEGORIES:*Sanctioned Event,National Event
END:VEVENT
BEGIN:VEVENT
DTSTART;TZID=America/New_York:20260510T110000
DTEND;TZID=America/New_York:20260510T120000
DTSTAMP:20260423T190754
CREATED:20260203T181539Z
LAST-MODIFIED:20260203T181540Z
UID:3106-1778410800-1778414400@cvma2-1.org
SUMMARY:MA 2-1 Monthly Chapter Meeting
DESCRIPTION:
URL:https://cvma2-1.org/event/ma-2-1-monthly-chapter-meeting-3/
LOCATION:Vernon Hill American Legion Post 435\, 267 Providence St\, Worcester\, MA\, 01607\, United States
CATEGORIES:MA 2-1 Event
END:VEVENT
BEGIN:VEVENT
DTSTART;TZID=America/New_York:20260418T090000
DTEND;TZID=America/New_York:20260418T170000
DTSTAMP:20260423T190754
CREATED:20260203T182026Z
LAST-MODIFIED:20260203T182027Z
UID:3112-1776502800-1776531600@cvma2-1.org
SUMMARY:CVMA CT State Meeting
DESCRIPTION:
URL:https://cvma2-1.org/event/cvma-ct-state-meeting/
LOCATION:Massachusetts
CATEGORIES:*Sanctioned Event,Other Event
END:VEVENT
BEGIN:VEVENT
DTSTART;TZID=America/New_York:20260412T110000
DTEND;TZID=America/New_York:20260412T120000
DTSTAMP:20260423T190754
CREATED:20260203T181401Z
LAST-MODIFIED:20260203T181402Z
UID:3104-1775991600-1775995200@cvma2-1.org
SUMMARY:MA 2-1 Monthly Chapter Meeting
DESCRIPTION:
URL:https://cvma2-1.org/event/ma-2-1-monthly-chapter-meeting-2/
LOCATION:Vernon Hill American Legion Post 435\, 267 Providence St\, Worcester\, MA\, 01607\, United States
CATEGORIES:MA 2-1 Event
END:VEVENT
BEGIN:VEVENT
DTSTART;TZID=America/New_York:20260321T090000
DTEND;TZID=America/New_York:20260321T170000
DTSTAMP:20260423T190754
CREATED:20260203T181943Z
LAST-MODIFIED:20260203T181943Z
UID:3108-1774083600-1774112400@cvma2-1.org
SUMMARY:CVMA NH State Meeting
DESCRIPTION:
URL:https://cvma2-1.org/event/cvma-nh-state-meeting/
LOCATION:Rollinsford American Legion\, 551 Foundry St\, Rollinsford\, New Hampshire\, 03869\, United States
CATEGORIES:*Sanctioned Event,Other Event
END:VEVENT
BEGIN:VEVENT
DTSTART;TZID=America/New_York:20260320T190000
DTEND;TZID=America/New_York:20260320T210000
DTSTAMP:20260423T190754
CREATED:20260203T181247Z
LAST-MODIFIED:20260203T181248Z
UID:3102-1774033200-1774040400@cvma2-1.org
SUMMARY:Military Appreciate Night @ Worcester Railers
DESCRIPTION:
URL:https://cvma2-1.org/event/military-appreciate-night-worcester-railers/
LOCATION:Massachusetts
END:VEVENT
BEGIN:VEVENT
DTSTART;TZID=America/New_York:20260308T110000
DTEND;TZID=America/New_York:20260308T120000
DTSTAMP:20260423T190754
CREATED:20260203T181101Z
LAST-MODIFIED:20260203T181139Z
UID:3099-1772967600-1772971200@cvma2-1.org
SUMMARY:MA 2-1 Monthly Chapter Meeting
DESCRIPTION:
URL:https://cvma2-1.org/event/ma-2-1-monthly-chapter-meeting/
LOCATION:Vernon Hill American Legion Post 435\, 267 Providence St\, Worcester\, MA\, 01607\, United States
CATEGORIES:MA 2-1 Event
END:VEVENT
BEGIN:VEVENT
DTSTART;TZID=America/New_York:20260208T110000
DTEND;TZID=America/New_York:20260208T120000
DTSTAMP:20260423T190754
CREATED:20260203T180345Z
LAST-MODIFIED:20260203T181133Z
UID:3096-1770548400-1770552000@cvma2-1.org
SUMMARY:MA 2-1 Monthly Chapter Meeting
DESCRIPTION:
URL:https://cvma2-1.org/event/ma-2-1-monthly-meeting/
LOCATION:Vernon Hill American Legion Post 435\, 267 Providence St\, Worcester\, MA\, 01607\, United States
CATEGORIES:MA 2-1 Event
END:VEVENT
BEGIN:VEVENT
DTSTART;TZID=America/New_York:20260124T110000
DTEND;TZID=America/New_York:20260124T170000
DTSTAMP:20260423T190754
CREATED:20260114T153928Z
LAST-MODIFIED:20260114T164047Z
UID:3038-1769252400-1769274000@cvma2-1.org
SUMMARY:2026 CVMA Massachusetts State Meeting
DESCRIPTION:-89Days\n				-12Hours\n				-7Minutes\n				-54Seconds\n			\n\n\n\n\n\n2026 CVMA Massachusetts State Meeting
URL:https://cvma2-1.org/event/2026-cvma-massachusetts-state-meeting/
LOCATION:Vernon Hill American Legion Post 435\, 267 Providence St\, Worcester\, MA\, 01607\, United States
CATEGORIES:*Sanctioned Event,State Event
END:VEVENT
BEGIN:VEVENT
DTSTART;TZID=America/New_York:20250823T090000
DTEND;TZID=America/New_York:20250823T170000
DTSTAMP:20260423T190754
CREATED:20250316T204916Z
LAST-MODIFIED:20250822T120851Z
UID:2244-1755939600-1755968400@cvma2-1.org
SUMMARY:Valhalla Run 2025
DESCRIPTION:Join us for the 7th annual Valhalla Run! Donated funds and proceeds from our events go directly to supporting Massachusetts Veterans services.  “Vets Helping Vets”.CVMA® MA 2-1 is a tax-deductible 501 (c) (19) Organization Employer Identification Number (EIN) 45-3552103 \n\n\n\nThis years event ride is leaving from:\nSheldon’s Harley-Davidson\n914 Southbridge St.\nAuburn\, MA 01501\nGoogle Map\n\nThe event is still being held at:\nScandinavian Athletic Club (SAC)\n438 Lake St.\nShrewsbury\, MA 01545\nGoogle Map \n\nWe recommend using Hampton Inn Boston – Westborough\n15 Connector Rd\, Westborough\, MA 01581\nas it is located in the same parking lot as the Meet & Greet.\n \n\n\n\n\n\n\n\nSend a warrior to Valhalla. Purchase a Memorial Token to be used in our ceremony. Each Registrant will receive a token. Tokens will be available the day of the event through personal donations.  \n\n\n\nThe Memorial Token is to be used in the Funeral Rites of Passage ceremony following the motorcycle run. It is meant to be a symbol that represents the remains of a fallen warrior. The fallen warrior could be one killed in action\, someone who once served who has since passed on\, or anyone you feel worthy of the title of “warrior”. There is also an option to choose from an existing list of KIA Service Members from Massachusetts. The Memorial tokens will then be placed into the Viking Longship prior to burning. The Viking longship will then be lit aflame\, with the smoke and fire carrying the souls and remains to Valhalla. \n\n\n\nTokens can be purchased online if you are unable to attend our event or purchased in person on the day of the ride. \n\n\n\nSponsors & Donors
URL:https://cvma2-1.org/event/valhalla-run-2025/
LOCATION:Massachusetts
CATEGORIES:*Sanctioned Event,MA 2-1 Event
ATTACH;FMTTYPE=image/jpeg:https://cvma2-1.org/wp-content/uploads/2024/02/Valhalla-Run-Banner.jpg
END:VEVENT
BEGIN:VEVENT
DTSTART;TZID=America/New_York:20240824T090000
DTEND;TZID=America/New_York:20240824T170000
DTSTAMP:20260423T190754
CREATED:20240227T140524Z
LAST-MODIFIED:20240823T020451Z
UID:1634-1724490000-1724518800@cvma2-1.org
SUMMARY:Valhalla Run 2024
DESCRIPTION:Join us for the 6th annual Valhalla Run! Donated funds and proceeds from our events go directly to supporting Massachusetts Veterans services.  “Vets Helping Vets”.CVMA® MA 2-1 is a tax-deductible 501 (c) (19) Organization Employer Identification Number (EIN) 45-3552103 \n\n\n\nThis years event ride is leaving from:\nSheldon’s Harley-Davidson\n914 Southbridge St.\nAuburn\, MA 01501\nGoogle Map\n\nThe event is still being held at:\nScandinavian Athletic Club (SAC)\n438 Lake St.\nShrewsbury\, MA 01545\nGoogle Map \n\nUnfortunately due to the immigration crisis we were unable to obtain discounted rooms\, but would recommend using the Hampton Inn Boston – Westborough\n15 Connector Rd\, Westborough\, MA 01581\n \n\n\n\n\n\n\n\nSend a warrior to Valhalla. Purchase a Memorial Token to be used in our ceremony. \n\n\n\nThe Memorial Token is to be used in the Funeral Rites of Passage ceremony following the motorcycle run. It is meant to be a symbol that represents the remains of a fallen warrior. The fallen warrior could be one killed in action\, someone who once served who has since passed on\, or anyone you feel worthy of the title of “warrior”. There is also an option to choose from an existing list of KIA Service Members from Massachusetts. The Memorial tokens will then be placed into the Viking Longship prior to burning. The Viking longship will then be lit aflame\, with the smoke and fire carrying the souls and remains to Valhalla. \n\n\n\nTokens can be purchased online if you are unable to attend our event or purchased in person on the day of the ride. \n\n\n\nSponsors & Donors
URL:https://cvma2-1.org/event/valhalla-run-2024/
LOCATION:Massachusetts
CATEGORIES:*Sanctioned Event,MA 2-1 Event
ATTACH;FMTTYPE=image/jpeg:https://cvma2-1.org/wp-content/uploads/2024/02/Valhalla-Run-Banner.jpg
END:VEVENT
END:VCALENDAR